BEGIN:VCALENDAR
VERSION:2.0
PRODID:-//Naturlänken - ECPv6.15.17.1//NONSGML v1.0//EN
CALSCALE:GREGORIAN
METHOD:PUBLISH
X-WR-CALNAME:Naturlänken
X-ORIGINAL-URL:https://naturlanken.birdlife.se
X-WR-CALDESC:Händelser för Naturlänken
REFRESH-INTERVAL;VALUE=DURATION:PT1H
X-Robots-Tag:noindex
X-PUBLISHED-TTL:PT1H
BEGIN:VTIMEZONE
TZID:Europe/Stockholm
BEGIN:DAYLIGHT
TZOFFSETFROM:+0100
TZOFFSETTO:+0200
TZNAME:CEST
DTSTART:20240331T010000
END:DAYLIGHT
BEGIN:STANDARD
TZOFFSETFROM:+0200
TZOFFSETTO:+0100
TZNAME:CET
DTSTART:20241027T010000
END:STANDARD
BEGIN:DAYLIGHT
TZOFFSETFROM:+0100
TZOFFSETTO:+0200
TZNAME:CEST
DTSTART:20250330T010000
END:DAYLIGHT
BEGIN:STANDARD
TZOFFSETFROM:+0200
TZOFFSETTO:+0100
TZNAME:CET
DTSTART:20251026T010000
END:STANDARD
BEGIN:DAYLIGHT
TZOFFSETFROM:+0100
TZOFFSETTO:+0200
TZNAME:CEST
DTSTART:20260329T010000
END:DAYLIGHT
BEGIN:STANDARD
TZOFFSETFROM:+0200
TZOFFSETTO:+0100
TZNAME:CET
DTSTART:20261025T010000
END:STANDARD
END:VTIMEZONE
BEGIN:VEVENT
DTSTART;TZID=Europe/Stockholm:20250305T153000
DTEND;TZID=Europe/Stockholm:20250305T170000
DTSTAMP:20260424T191252
CREATED:20250214T052302Z
LAST-MODIFIED:20250214T052612Z
UID:3035-1741188600-1741194000@naturlanken.birdlife.se
SUMMARY:Snickra holkar med Naturlänken – det råder bostadsbrist!
DESCRIPTION:Träffen är en introduktion och inspiration till att bygga holkar i er närmiljö och bidra till att lösa fåglarnas bostadsbrist. Samtidigt får vi en inblick i fåglarnas liv i holken. Vi undersöker också hur vi kan lära oss mer om fåglar och natur med hjälp av holkar. \nAnmäl dig här
URL:https://naturlanken.birdlife.se/evenemang/snickra-holkar-med-naturlanken-det-rader-bostadsbrist/
LOCATION:Digitalt möte
ATTACH;FMTTYPE=image/jpeg:https://cdn.birdlife.se/wp-content/uploads/sites/49/2025/02/bygg-en-fagelholk_900.jpg
END:VEVENT
END:VCALENDAR