BEGIN:VCALENDAR
VERSION:2.0
PRODID:-//Naturlänken - ECPv6.15.17.1//NONSGML v1.0//EN
CALSCALE:GREGORIAN
METHOD:PUBLISH
X-WR-CALNAME:Naturlänken
X-ORIGINAL-URL:https://naturlanken.birdlife.se
X-WR-CALDESC:Händelser för Naturlänken
REFRESH-INTERVAL;VALUE=DURATION:PT1H
X-Robots-Tag:noindex
X-PUBLISHED-TTL:PT1H
BEGIN:VTIMEZONE
TZID:Europe/Stockholm
BEGIN:DAYLIGHT
TZOFFSETFROM:+0100
TZOFFSETTO:+0200
TZNAME:CEST
DTSTART:20240331T010000
END:DAYLIGHT
BEGIN:STANDARD
TZOFFSETFROM:+0200
TZOFFSETTO:+0100
TZNAME:CET
DTSTART:20241027T010000
END:STANDARD
BEGIN:DAYLIGHT
TZOFFSETFROM:+0100
TZOFFSETTO:+0200
TZNAME:CEST
DTSTART:20250330T010000
END:DAYLIGHT
BEGIN:STANDARD
TZOFFSETFROM:+0200
TZOFFSETTO:+0100
TZNAME:CET
DTSTART:20251026T010000
END:STANDARD
BEGIN:DAYLIGHT
TZOFFSETFROM:+0100
TZOFFSETTO:+0200
TZNAME:CEST
DTSTART:20260329T010000
END:DAYLIGHT
BEGIN:STANDARD
TZOFFSETFROM:+0200
TZOFFSETTO:+0100
TZNAME:CET
DTSTART:20261025T010000
END:STANDARD
END:VTIMEZONE
BEGIN:VEVENT
DTSTART;TZID=Europe/Stockholm:20250423T153000
DTEND;TZID=Europe/Stockholm:20250423T170000
DTSTAMP:20260424T191252
CREATED:20250310T130340Z
LAST-MODIFIED:20250310T132407Z
UID:3182-1745422200-1745427600@naturlanken.birdlife.se
SUMMARY:Vad har fåglarna för sig på våren?
DESCRIPTION:Träffen uppmuntrar till att uppleva våren tillsammans med fåglarna under deras mest hektiska tid. Hur ser livet ut för en talgoxe eller kanske en stare när våren knackar på? \nDet utforskar vi genom Naturlänkens kommande evenemang – Barnens fågelvecka. Lärandet som sker i detta sammanhang kan kopplas till alla läroplansmål\, och under träffen går vi igenom hur. \nAnmäl dig här!
URL:https://naturlanken.birdlife.se/evenemang/vad-har-faglarna-for-sig-pa-varen/
LOCATION:Digitalt möte
ATTACH;FMTTYPE=image/jpeg:https://cdn.birdlife.se/wp-content/uploads/sites/49/2025/03/fagelbingo_28.jpg
END:VEVENT
END:VCALENDAR